BEGIN:VCALENDAR
VERSION:2.0
PRODID:-//Delta Consulting Group - ECPv6.15.12//NONSGML v1.0//EN
CALSCALE:GREGORIAN
METHOD:PUBLISH
X-WR-CALNAME:Delta Consulting Group
X-ORIGINAL-URL:https://delta-cgi.com
X-WR-CALDESC:Events for Delta Consulting Group
REFRESH-INTERVAL;VALUE=DURATION:PT1H
X-Robots-Tag:noindex
X-PUBLISHED-TTL:PT1H
BEGIN:VTIMEZONE
TZID:America/New_York
BEGIN:DAYLIGHT
TZOFFSETFROM:-0500
TZOFFSETTO:-0400
TZNAME:EDT
DTSTART:20240310T070000
END:DAYLIGHT
BEGIN:STANDARD
TZOFFSETFROM:-0400
TZOFFSETTO:-0500
TZNAME:EST
DTSTART:20241103T060000
END:STANDARD
BEGIN:DAYLIGHT
TZOFFSETFROM:-0500
TZOFFSETTO:-0400
TZNAME:EDT
DTSTART:20250309T070000
END:DAYLIGHT
BEGIN:STANDARD
TZOFFSETFROM:-0400
TZOFFSETTO:-0500
TZNAME:EST
DTSTART:20251102T060000
END:STANDARD
BEGIN:DAYLIGHT
TZOFFSETFROM:-0500
TZOFFSETTO:-0400
TZNAME:EDT
DTSTART:20260308T070000
END:DAYLIGHT
BEGIN:STANDARD
TZOFFSETFROM:-0400
TZOFFSETTO:-0500
TZNAME:EST
DTSTART:20261101T060000
END:STANDARD
END:VTIMEZONE
BEGIN:VTIMEZONE
TZID:UTC
BEGIN:STANDARD
TZOFFSETFROM:+0000
TZOFFSETTO:+0000
TZNAME:UTC
DTSTART:20230101T000000
END:STANDARD
END:VTIMEZONE
BEGIN:VEVENT
DTSTART;VALUE=DATE:20251130
DTEND;VALUE=DATE:20251203
DTSTAMP:20260421T045315
CREATED:20250930T162535Z
LAST-MODIFIED:20251015T163429Z
UID:10000131-1764460800-1764719999@delta-cgi.com
SUMMARY:23rd ICC Miami Conference on International Arbitration
DESCRIPTION:Delta Consulting Group is pleased to announce that members of our international arbitration team will be attending the 23rd ICC Miami Conference on International Arbitration\, recognized as the premier arbitration and alternative dispute resolution (ADR) event for Latin America. \nHosted by the International Chamber of Commerce (ICC)\, this annual conference brings together leading practitioners\, arbitrators\, judges\, mediators\, corporate counsel\, academics and business professionals from across the globe. The 2025 program will feature expert speakers\, in-depth panel discussions and valuable networking opportunities\, all with a focus on the latest trends and developments in international dispute resolution in the Latin American context. \nIn addition to the main conference\, the week will begin with the ICC Institute of World Business Law’s Advanced Training on Complex Arbitrations: Focus on Procedural Issues on Sunday\, November 30. This program will provide participants with an in-depth exploration of multi-party disputes\, procedural issues in parallel proceedings and other key aspects of complex arbitration practice. \nRepresenting Delta at the conference will be: \n\nDakus Gunn – Managing Director\nSergio Negreira – Managing Director\nÓscar Martínez Lamigueiro – Senior Director\nJulio C. Villa – Director\nAndres Rivadeneira Cévasco – Consultant\n\nWe look forward to connecting with colleagues\, peers\, and clients at this premier event for the arbitration community in Latin America.
URL:https://delta-cgi.com/events/23rd-icc-miami-conference-on-international-arbitration/
LOCATION:Miami\, FL
CATEGORIES:Conference
ATTACH;FMTTYPE=image/jpeg:https://delta-cgi.com/wp-content/uploads/2025/09/ICC-2025_Nov30.jpg
END:VEVENT
BEGIN:VEVENT
DTSTART;VALUE=DATE:20250303
DTEND;VALUE=DATE:20250305
DTSTAMP:20260421T045315
CREATED:20250224T210127Z
LAST-MODIFIED:20250301T015708Z
UID:10000096-1740960000-1741132799@delta-cgi.com
SUMMARY:2025 Women’s White Collar Defense Association Leadership Retreat
DESCRIPTION:Delta Consulting Group Director and Women’s White Collar Defense Association (WWCDA) Atlanta Chapter Treasurer Rachel Weinthal is looking forward to attending the 2025 Leadership Retreat being held March 3-4\, 2025 at the Mandarin Oriental in Miami. \nWe hope to connect with you at the event!
URL:https://delta-cgi.com/events/2025-womens-white-collar-defense-association-leadership-retreat/
LOCATION:Miami\, FL
ATTACH;FMTTYPE=image/jpeg:https://delta-cgi.com/wp-content/uploads/2025/02/WWCDA_2025_Rachel-4.jpg
END:VEVENT
BEGIN:VEVENT
DTSTART;VALUE=DATE:20241201
DTEND;VALUE=DATE:20241204
DTSTAMP:20260421T045315
CREATED:20240806T232115Z
LAST-MODIFIED:20241108T031309Z
UID:10000049-1733011200-1733270399@delta-cgi.com
SUMMARY:22nd ICC Miami Conference on International Arbitration
DESCRIPTION:The 22nd edition of the ICC Miami Conference on International Arbitration is back on 1-3 December 2024 at the Loews Miami Beach! Recognised as the leading event on arbitration and ADR for Latin America\, this conference promises invaluable insights\, featuring expert speakers and engaging discussions on the latest trends and developments in the field within the Latin American context. The conference will also offer excellent potential for networking for professionals involved in international dispute resolution. \nJeff Fuchs\, Darin Buchalter\, Arnold Y. Castillo\, Dakus Gunn\, Andres Crespo\, and Julio C. Villa look forward to attending on behalf of Delta Consulting Group. We hope to see you there!
URL:https://delta-cgi.com/events/22nd-icc-miami-conference-on-international-arbitration/
LOCATION:Miami\, FL
CATEGORIES:Conference
END:VEVENT
END:VCALENDAR