BEGIN:VCALENDAR
VERSION:2.0
PRODID:-//Delta Consulting Group - ECPv6.15.12//NONSGML v1.0//EN
CALSCALE:GREGORIAN
METHOD:PUBLISH
X-ORIGINAL-URL:https://delta-cgi.com
X-WR-CALDESC:Events for Delta Consulting Group
REFRESH-INTERVAL;VALUE=DURATION:PT1H
X-Robots-Tag:noindex
X-PUBLISHED-TTL:PT1H
BEGIN:VTIMEZONE
TZID:UTC
BEGIN:STANDARD
TZOFFSETFROM:+0000
TZOFFSETTO:+0000
TZNAME:UTC
DTSTART:20240101T000000
END:STANDARD
END:VTIMEZONE
BEGIN:VEVENT
DTSTART;VALUE=DATE:20251119
DTEND;VALUE=DATE:20251121
DTSTAMP:20260422T134352
CREATED:20251114T172612Z
LAST-MODIFIED:20251114T173117Z
UID:10000144-1763510400-1763683199@delta-cgi.com
SUMMARY:2025 London Build Expo
DESCRIPTION:We’re thrilled to celebrate our very own Smita Yamgar\, CCM\, PSP\, CCP\, MCIOB\, APAEWE\, Associate Director at Delta Consulting Group\, for being selected as an Ambassador for Construction Mentors and Women in Construction at London Build Expo 2025! \nSmita’s passion for mentorship\, diversity and inclusion in the construction industry continues to inspire our entire team. Her commitment to empowering others and driving positive change reflects the values we hold dear at Delta.
URL:https://delta-cgi.com/events/2025-london-build-expo/
LOCATION:London\, UK
ATTACH;FMTTYPE=image/jpeg:https://delta-cgi.com/wp-content/uploads/2025/11/Delta_Smita_LondonBuildConferenceAgenda2025-1.jpg
END:VEVENT
END:VCALENDAR