BEGIN:VCALENDAR
VERSION:2.0
PRODID:-//Delta Consulting Group - ECPv6.15.12//NONSGML v1.0//EN
CALSCALE:GREGORIAN
METHOD:PUBLISH
X-WR-CALNAME:Delta Consulting Group
X-ORIGINAL-URL:https://delta-cgi.com
X-WR-CALDESC:Events for Delta Consulting Group
REFRESH-INTERVAL;VALUE=DURATION:PT1H
X-Robots-Tag:noindex
X-PUBLISHED-TTL:PT1H
BEGIN:VTIMEZONE
TZID:UTC
BEGIN:STANDARD
TZOFFSETFROM:+0000
TZOFFSETTO:+0000
TZNAME:UTC
DTSTART:20240101T000000
END:STANDARD
END:VTIMEZONE
BEGIN:VEVENT
DTSTART;VALUE=DATE:20250306
DTEND;VALUE=DATE:20250308
DTSTAMP:20260423T160512
CREATED:20250214T174527Z
LAST-MODIFIED:20250318T011617Z
UID:10000077-1741219200-1741391999@delta-cgi.com
SUMMARY:2025 Texas Construction Law Conference
DESCRIPTION:As a Friends of the Foundation Sponsor\, Delta Consulting Group is proud to support the 38th Annual Construction Law Conference hosted by the Construction Law Foundation of Texas. Delta Director Sean Dooley\, Associate Director Nicole Kelly\, and Director Matt Nichols will be on hand to meet and connect with other attendees at the event\, so be sure to reach out and say hello!
URL:https://delta-cgi.com/events/2025-texas-construction-law-conference/
LOCATION:San Antonio\, Texas
CATEGORIES:Conference
ATTACH;FMTTYPE=image/jpeg:https://delta-cgi.com/wp-content/uploads/2025/02/CLC-Texas-2025-1.jpg
END:VEVENT
END:VCALENDAR