BEGIN:VCALENDAR
VERSION:2.0
PRODID:-//Delta Consulting Group - ECPv6.15.12//NONSGML v1.0//EN
CALSCALE:GREGORIAN
METHOD:PUBLISH
X-ORIGINAL-URL:https://delta-cgi.com
X-WR-CALDESC:Events for Delta Consulting Group
REFRESH-INTERVAL;VALUE=DURATION:PT1H
X-Robots-Tag:noindex
X-PUBLISHED-TTL:PT1H
BEGIN:VTIMEZONE
TZID:UTC
BEGIN:STANDARD
TZOFFSETFROM:+0000
TZOFFSETTO:+0000
TZNAME:UTC
DTSTART:20230101T000000
END:STANDARD
END:VTIMEZONE
BEGIN:VTIMEZONE
TZID:Atlantic/Azores
BEGIN:DAYLIGHT
TZOFFSETFROM:-0100
TZOFFSETTO:+0000
TZNAME:+00
DTSTART:20230326T010000
END:DAYLIGHT
BEGIN:STANDARD
TZOFFSETFROM:+0000
TZOFFSETTO:-0100
TZNAME:-01
DTSTART:20231029T010000
END:STANDARD
BEGIN:DAYLIGHT
TZOFFSETFROM:-0100
TZOFFSETTO:+0000
TZNAME:+00
DTSTART:20240331T010000
END:DAYLIGHT
BEGIN:STANDARD
TZOFFSETFROM:+0000
TZOFFSETTO:-0100
TZNAME:-01
DTSTART:20241027T010000
END:STANDARD
BEGIN:DAYLIGHT
TZOFFSETFROM:-0100
TZOFFSETTO:+0000
TZNAME:+00
DTSTART:20250330T010000
END:DAYLIGHT
BEGIN:STANDARD
TZOFFSETFROM:+0000
TZOFFSETTO:-0100
TZNAME:-01
DTSTART:20251026T010000
END:STANDARD
END:VTIMEZONE
BEGIN:VTIMEZONE
TZID:Europe/Paris
BEGIN:DAYLIGHT
TZOFFSETFROM:+0100
TZOFFSETTO:+0200
TZNAME:CEST
DTSTART:20230326T010000
END:DAYLIGHT
BEGIN:STANDARD
TZOFFSETFROM:+0200
TZOFFSETTO:+0100
TZNAME:CET
DTSTART:20231029T010000
END:STANDARD
BEGIN:DAYLIGHT
TZOFFSETFROM:+0100
TZOFFSETTO:+0200
TZNAME:CEST
DTSTART:20240331T010000
END:DAYLIGHT
BEGIN:STANDARD
TZOFFSETFROM:+0200
TZOFFSETTO:+0100
TZNAME:CET
DTSTART:20241027T010000
END:STANDARD
BEGIN:DAYLIGHT
TZOFFSETFROM:+0100
TZOFFSETTO:+0200
TZNAME:CEST
DTSTART:20250330T010000
END:DAYLIGHT
BEGIN:STANDARD
TZOFFSETFROM:+0200
TZOFFSETTO:+0100
TZNAME:CET
DTSTART:20251026T010000
END:STANDARD
END:VTIMEZONE
BEGIN:VEVENT
DTSTART;VALUE=DATE:20240904
DTEND;VALUE=DATE:20240907
DTSTAMP:20260425T163411
CREATED:20240806T233041Z
LAST-MODIFIED:20240919T201354Z
UID:10000051-1725408000-1725667199@delta-cgi.com
SUMMARY:ABA 10th Annual Southeastern While Collar Crime Institute
DESCRIPTION:This two-day conference features experts from around the nation who will be discussing current hot topics in white collar criminal enforcement. There will be ample networking opportunities\, as well as down time to take advantage of the numerous amenities and activities of the host resort. We are pleased to announce that Delta’s own Jimmy Pappas\, William “Bill” Jennings\, and Rachel Weinthal will be attending the conference.
URL:https://delta-cgi.com/events/aba-10th-annual-southeastern-while-collar-crime-institute/
LOCATION:Braselton\, GA
CATEGORIES:Conference
ATTACH;FMTTYPE=image/jpeg:https://delta-cgi.com/wp-content/uploads/2024/08/ABA_WhiteCollarCrime.jpg
END:VEVENT
BEGIN:VEVENT
DTSTART;TZID=Atlantic/Azores:20240906T121500
DTEND;TZID=Atlantic/Azores:20240906T150000
DTSTAMP:20260425T163411
CREATED:20240829T205310Z
LAST-MODIFIED:20240904T014933Z
UID:10000052-1725624900-1725634800@delta-cgi.com
SUMMARY:The SCL Lunch in Leeds
DESCRIPTION:Delta Consulting Group’s Steven Lynch and Martin Hicks will be attending the SCL UK Lunch at The Queens Hotel in Leeds. We hope to see you there!
URL:https://delta-cgi.com/events/the-scl-lunch-in-leeds/
LOCATION:The Queens Hotel\, The Queens Hotel\, Leeds\, LS1 1PJ\, United Kingdom
CATEGORIES:Conference
ATTACH;FMTTYPE=image/jpeg:https://delta-cgi.com/wp-content/uploads/2024/08/SCLLunch_Leeds-6-Sept-2024.jpg
END:VEVENT
BEGIN:VEVENT
DTSTART;TZID=Europe/Paris:20240917T100000
DTEND;TZID=Europe/Paris:20240917T160000
DTSTAMP:20260425T163411
CREATED:20240916T175245Z
LAST-MODIFIED:20240916T175408Z
UID:10000053-1726567200-1726588800@delta-cgi.com
SUMMARY:Construction Contract Disputes Ireland 2024 Conference
DESCRIPTION:John Blade will represent Delta Consulting Group at the Construction Contract Disputes Ireland 2024 Conference hosted at the Gibson Hotel in Dublin\, Ireland on September 17\, 2024. We hope to see you there!
URL:https://delta-cgi.com/events/construction-contract-disputes-ireland-2024-conference/
LOCATION:The Gibson Hotel\, Point Square\, North Dock\, Dublin City\, Dublin\, D01 X2P2\, Ireland
CATEGORIES:Conference
ATTACH;FMTTYPE=image/jpeg:https://delta-cgi.com/wp-content/uploads/2024/09/ConstructionContractDisputesIreland17September2024.jpg
END:VEVENT
END:VCALENDAR