BEGIN:VCALENDAR
VERSION:2.0
PRODID:-//Delta Consulting Group - ECPv6.15.12//NONSGML v1.0//EN
CALSCALE:GREGORIAN
METHOD:PUBLISH
X-WR-CALNAME:Delta Consulting Group
X-ORIGINAL-URL:https://delta-cgi.com
X-WR-CALDESC:Events for Delta Consulting Group
REFRESH-INTERVAL;VALUE=DURATION:PT1H
X-Robots-Tag:noindex
X-PUBLISHED-TTL:PT1H
BEGIN:VTIMEZONE
TZID:America/New_York
BEGIN:DAYLIGHT
TZOFFSETFROM:-0500
TZOFFSETTO:-0400
TZNAME:EDT
DTSTART:20250309T070000
END:DAYLIGHT
BEGIN:STANDARD
TZOFFSETFROM:-0400
TZOFFSETTO:-0500
TZNAME:EST
DTSTART:20251102T060000
END:STANDARD
BEGIN:DAYLIGHT
TZOFFSETFROM:-0500
TZOFFSETTO:-0400
TZNAME:EDT
DTSTART:20260308T070000
END:DAYLIGHT
BEGIN:STANDARD
TZOFFSETFROM:-0400
TZOFFSETTO:-0500
TZNAME:EST
DTSTART:20261101T060000
END:STANDARD
BEGIN:DAYLIGHT
TZOFFSETFROM:-0500
TZOFFSETTO:-0400
TZNAME:EDT
DTSTART:20270314T070000
END:DAYLIGHT
BEGIN:STANDARD
TZOFFSETFROM:-0400
TZOFFSETTO:-0500
TZNAME:EST
DTSTART:20271107T060000
END:STANDARD
END:VTIMEZONE
BEGIN:VEVENT
DTSTART;VALUE=DATE:20260430
DTEND;VALUE=DATE:20260502
DTSTAMP:20260425T070810
CREATED:20260324T094103Z
LAST-MODIFIED:20260326T234128Z
UID:10000165-1777507200-1777679999@delta-cgi.com
SUMMARY:LexAngle on Experts
DESCRIPTION:Delta will be attending LexAngle On Experts 2026\, a leading international conference that brings together legal professionals\, expert witnesses and industry specialists to examine key issues at the intersection of law\, construction and dispute resolution. \nThe agenda features a range of panel discussions and expert led sessions covering topics such as expert evidence\, litigation strategy and emerging trends impacting the global disputes landscape. The event also offers valuable opportunities to connect with peers and thought leaders from across the industry. \nDelta Managing Director Dakus Gunn and Director Khaled Aziza will be in attendance to connect with other experts and participants.
URL:https://delta-cgi.com/events/lexangle-on-experts/
LOCATION:Washington\, D.C.
ATTACH;FMTTYPE=image/jpeg:https://delta-cgi.com/wp-content/uploads/2026/03/LexangleOnExperts2026.jpg
END:VEVENT
BEGIN:VEVENT
DTSTART;VALUE=DATE:20260503
DTEND;VALUE=DATE:20260507
DTSTAMP:20260425T070810
CREATED:20260304T004723Z
LAST-MODIFIED:20260308T171837Z
UID:10000160-1777766400-1778111999@delta-cgi.com
SUMMARY:RIMS RISKWORLD 2026
DESCRIPTION:Members of Delta Consulting Group’s Insurance & Recovery practice will attend RISKWORLD 2026\, the Risk and Insurance Management Society’s flagship global conference for risk and insurance professionals. The event brings together risk managers\, insurers\, brokers and advisors from around the world for several days of education\, networking and collaboration focused on the evolving risk landscape. \nRepresenting Delta at RISKWORLD 2026 will be: \n\nDrew Olson\nBrad Caddick\nSteve Dimakos\nPete Kalogeros\nBryan Thommes\nCiara Ascensio\nBen Woolley\nCarolyn Gregory\n\nHeld at the Pennsylvania Convention Center in Philadelphia\, RISKWORLD features educational sessions\, keynote speakers like Adam Grant and Evan Greenberg\, and a large marketplace showcasing solutions and strategies across risk management\, insurance and enterprise risk. \nVisit the Delta booth in the exhibition hall\, where we will be connecting with industry peers and discussing how our Insurance & Recovery professionals help organizations navigate complex loss events\, claims disputes and financial exposures.
URL:https://delta-cgi.com/events/rims-riskworld-2026/
LOCATION:Philadelphia\, PA
ATTACH;FMTTYPE=image/jpeg:https://delta-cgi.com/wp-content/uploads/2026/03/RIMS-Philly2026-updated.jpg
END:VEVENT
BEGIN:VEVENT
DTSTART;VALUE=DATE:20260505
DTEND;VALUE=DATE:20260508
DTSTAMP:20260425T070810
CREATED:20260423T201111Z
LAST-MODIFIED:20260423T201111Z
UID:10000168-1777939200-1778198399@delta-cgi.com
SUMMARY:Consensus 2026
DESCRIPTION:Delta Consulting Group will attend Consensus 2026\, CoinDesk’s flagship conference and one of the most influential gatherings in digital assets\, blockchain and emerging financial technologies\, taking place May 5 to 7 in Miami Beach\, Florida. Hosted at the Miami Beach Convention Center\, the event convenes more than 20\,000 leaders from across cryptocurrency\, finance\, technology and policy to explore the future of digital finance and institutional innovation. \nDelta is proud to participate in this premier event and engage with professionals at the forefront of digital asset and financial technology innovation. Representing Delta at Consensus 2026 will be Managing Director Edward Nagel and Director Avi Kamath. \nConsensus features three days of programming focused on topics that include crypto at scale\, institutional integration and agentic commerce\, alongside networking events\, educational sessions and business development opportunities for attendees across the financial and technology sectors. \nWe look forward to connecting with industry leaders and contributing to conversations shaping the future of digital finance.
URL:https://delta-cgi.com/events/consensus-2026/
LOCATION:Miami\, FL
CATEGORIES:Conference
ATTACH;FMTTYPE=image/jpeg:https://delta-cgi.com/wp-content/uploads/2026/04/Edward-Avi-Consensus2026.jpg
END:VEVENT
BEGIN:VEVENT
DTSTART;VALUE=DATE:20260506
DTEND;VALUE=DATE:20260508
DTSTAMP:20260425T070810
CREATED:20260423T201511Z
LAST-MODIFIED:20260423T201511Z
UID:10000169-1778025600-1778198399@delta-cgi.com
SUMMARY:Open de Arbitraje Madrid
DESCRIPTION:Delta Consulting Group looks forward to attending Open de Arbitraje 2026\, one of the leading international arbitration conferences in the Spanish-speaking legal market\, taking place May 6 to 7 in Madrid\, Spain. The event brings together top arbitration practitioners\, in-house counsel\, experts and industry leaders for two days of discussion focused on developments in commercial and investment arbitration. \nHosted at La Estación Gran Teatro Príncipe Pío in Madrid\, the conference features high-level programming\, practical discussions and networking opportunities designed to foster collaboration among arbitration professionals from around the world. Delta Spain Senior Director Oscar Martinez Lamigueiro will attend the 2026 event\, which will center on themes of precision\, strategy and innovation inspired by Formula 1. \nWe look forward to engaging with international arbitration leaders and contributing to important conversations shaping the future of dispute resolution. \n 
URL:https://delta-cgi.com/events/open-de-arbitraje-madrid/
LOCATION:Madrid\, Spain
CATEGORIES:Conference
ATTACH;FMTTYPE=image/jpeg:https://delta-cgi.com/wp-content/uploads/2026/04/Oscar-OpendeArbitraje2026.jpg
END:VEVENT
BEGIN:VEVENT
DTSTART;VALUE=DATE:20260506
DTEND;VALUE=DATE:20260510
DTSTAMP:20260425T070810
CREATED:20260409T140851Z
LAST-MODIFIED:20260410T133514Z
UID:10000166-1778025600-1778371199@delta-cgi.com
SUMMARY:ABA Forum on Construction Law 2026 Annual Conference
DESCRIPTION:Delta is excited to once again attend the American Bar Association Forum on Construction Law Annual Conference\, taking place May 6-9 in Chicago. This milestone event marks 50 years of leadership in construction law and brings together leading attorneys\, consultants and industry professionals from across the country.  \nThe conference features a robust program of educational sessions\, CLE opportunities and networking events focused on the most pressing issues in construction law\, including litigation\, risk management\, dispute resolution and emerging industry trends.  \nDelta is proud to participate as a Gold Sponsor\, supporting this premier industry gathering and engaging with peers\, clients and partners. Attending from Delta are Jeffrey Fuchs\, Steve Dimakos\, Avi Sharma\, Nathan Swink\, Emily Kelly and Tristalyn Bixler-Kint. \nWe look forward to connecting with industry leaders\, sharing insights and continuing to support the advancement of the construction law community.
URL:https://delta-cgi.com/events/aba-forum-on-construction-law-2026-annual-conference/
LOCATION:Chicago\, IL
CATEGORIES:Conference
ATTACH;FMTTYPE=image/jpeg:https://delta-cgi.com/wp-content/uploads/2026/04/2026ABA-FCL-AnnualConf.jpg
END:VEVENT
BEGIN:VEVENT
DTSTART;VALUE=DATE:20260520
DTEND;VALUE=DATE:20260521
DTSTAMP:20260425T070810
CREATED:20260423T201927Z
LAST-MODIFIED:20260423T212821Z
UID:10000170-1779235200-1779321599@delta-cgi.com
SUMMARY:Builder’s Risk Claims: Legal Strategies from First Notice to Final Resolution
DESCRIPTION:Delta Consulting Group will participate in the American Bar Association webinar\, Builder’s Risk Claims: Legal Strategies from First Notice to Final Resolution\,” taking place May 20\, 2026\, at 1 p.m. EDT. Hosted through the ABA Learning Center\, the webinar will explore legal and practical considerations involved in builder’s risk claims from initial notice through final resolution. \nThe program will provide attendees with insights into navigating complex builder’s risk disputes\, claims strategy and key issues impacting coverage and litigation outcomes. \nDelta Managing Director Drew Olson will moderate\, with panelists that include Delta Senior Director Ben Woolley\, Saxe Doernberger & Vita Partner Michael Pepe\, and Jeff Stevens\, in-house counsel for Layton Construction. Their participation reflects Delta’s continued leadership in construction claims and dispute resolution. \nWe look forward to sharing our expertise and contributing to this timely discussion with legal and industry professionals.
URL:https://delta-cgi.com/events/builders-risk-claims-legal-strategies-from-first-notice-to-final-resolution/
LOCATION:WEBINAR
CATEGORIES:Conference
ATTACH;FMTTYPE=image/jpeg:https://delta-cgi.com/wp-content/uploads/2026/04/Builders-Risk-Claims-Webinar-2026.jpg
END:VEVENT
END:VCALENDAR