BEGIN:VCALENDAR
VERSION:2.0
PRODID:-//Delta Consulting Group - ECPv6.15.12//NONSGML v1.0//EN
CALSCALE:GREGORIAN
METHOD:PUBLISH
X-ORIGINAL-URL:https://delta-cgi.com
X-WR-CALDESC:Events for Delta Consulting Group
REFRESH-INTERVAL;VALUE=DURATION:PT1H
X-Robots-Tag:noindex
X-PUBLISHED-TTL:PT1H
BEGIN:VTIMEZONE
TZID:America/New_York
BEGIN:DAYLIGHT
TZOFFSETFROM:-0500
TZOFFSETTO:-0400
TZNAME:EDT
DTSTART:20250309T070000
END:DAYLIGHT
BEGIN:STANDARD
TZOFFSETFROM:-0400
TZOFFSETTO:-0500
TZNAME:EST
DTSTART:20251102T060000
END:STANDARD
BEGIN:DAYLIGHT
TZOFFSETFROM:-0500
TZOFFSETTO:-0400
TZNAME:EDT
DTSTART:20260308T070000
END:DAYLIGHT
BEGIN:STANDARD
TZOFFSETFROM:-0400
TZOFFSETTO:-0500
TZNAME:EST
DTSTART:20261101T060000
END:STANDARD
BEGIN:DAYLIGHT
TZOFFSETFROM:-0500
TZOFFSETTO:-0400
TZNAME:EDT
DTSTART:20270314T070000
END:DAYLIGHT
BEGIN:STANDARD
TZOFFSETFROM:-0400
TZOFFSETTO:-0500
TZNAME:EST
DTSTART:20271107T060000
END:STANDARD
END:VTIMEZONE
BEGIN:VEVENT
DTSTART;VALUE=DATE:20260430
DTEND;VALUE=DATE:20260502
DTSTAMP:20260420T132158
CREATED:20260324T094103Z
LAST-MODIFIED:20260326T234128Z
UID:10000165-1777507200-1777679999@delta-cgi.com
SUMMARY:LexAngle on Experts
DESCRIPTION:Delta will be attending LexAngle On Experts 2026\, a leading international conference that brings together legal professionals\, expert witnesses and industry specialists to examine key issues at the intersection of law\, construction and dispute resolution. \nThe agenda features a range of panel discussions and expert led sessions covering topics such as expert evidence\, litigation strategy and emerging trends impacting the global disputes landscape. The event also offers valuable opportunities to connect with peers and thought leaders from across the industry. \nDelta Managing Director Dakus Gunn and Director Khaled Aziza will be in attendance to connect with other experts and participants.
URL:https://delta-cgi.com/events/lexangle-on-experts/
LOCATION:Washington\, D.C.
ATTACH;FMTTYPE=image/jpeg:https://delta-cgi.com/wp-content/uploads/2026/03/LexangleOnExperts2026.jpg
END:VEVENT
END:VCALENDAR