BEGIN:VCALENDAR
VERSION:2.0
PRODID:-//Delta Consulting Group - ECPv6.15.12//NONSGML v1.0//EN
CALSCALE:GREGORIAN
METHOD:PUBLISH
X-ORIGINAL-URL:https://delta-cgi.com
X-WR-CALDESC:Events for Delta Consulting Group
REFRESH-INTERVAL;VALUE=DURATION:PT1H
X-Robots-Tag:noindex
X-PUBLISHED-TTL:PT1H
BEGIN:VTIMEZONE
TZID:America/New_York
BEGIN:DAYLIGHT
TZOFFSETFROM:-0500
TZOFFSETTO:-0400
TZNAME:EDT
DTSTART:20250309T070000
END:DAYLIGHT
BEGIN:STANDARD
TZOFFSETFROM:-0400
TZOFFSETTO:-0500
TZNAME:EST
DTSTART:20251102T060000
END:STANDARD
BEGIN:DAYLIGHT
TZOFFSETFROM:-0500
TZOFFSETTO:-0400
TZNAME:EDT
DTSTART:20260308T070000
END:DAYLIGHT
BEGIN:STANDARD
TZOFFSETFROM:-0400
TZOFFSETTO:-0500
TZNAME:EST
DTSTART:20261101T060000
END:STANDARD
BEGIN:DAYLIGHT
TZOFFSETFROM:-0500
TZOFFSETTO:-0400
TZNAME:EDT
DTSTART:20270314T070000
END:DAYLIGHT
BEGIN:STANDARD
TZOFFSETFROM:-0400
TZOFFSETTO:-0500
TZNAME:EST
DTSTART:20271107T060000
END:STANDARD
END:VTIMEZONE
BEGIN:VEVENT
DTSTART;VALUE=DATE:20260310
DTEND;VALUE=DATE:20260314
DTSTAMP:20260420T135806
CREATED:20260217T215252Z
LAST-MODIFIED:20260223T232522Z
UID:10000158-1773100800-1773446399@delta-cgi.com
SUMMARY:2026 ABA White Collar Crime Institute
DESCRIPTION:Senior Director Gary Napadov and Director Rachel Weinthal will be representing Delta at the 2026 White Collar Crime Institute\, hosted by the American Bar Association (ABA) March 10–13\, 2026 in San Diego\, California. The annual Institute convenes leading practitioners\, in-house counsel\, judges\, academics and enforcement officials for an in-depth exploration of white collar crime\, enforcement priorities and emerging legal trends. \nThe program features more than 25 breakout sessions and five plenary programs covering substantive developments in white collar practice\, compliance challenges\, enforcement strategies and risk management insights. Participants gain valuable perspectives from distinguished speakers with real-world experience in government\, private practice and corporate legal departments. \nNetworking opportunities and peer discussions are woven throughout the agenda\, offering attendees the chance to exchange ideas\, build professional relationships and stay at the forefront of critical issues shaping the complex landscape of white collar law.
URL:https://delta-cgi.com/events/2026-aba-white-collar-crime-institute/
LOCATION:San Diego\, CA
ATTACH;FMTTYPE=image/jpeg:https://delta-cgi.com/wp-content/uploads/2026/02/2026-ABA-White-Color-Crime-Institute-SanDiego.jpg
END:VEVENT
END:VCALENDAR