BEGIN:VCALENDAR
VERSION:2.0
PRODID:-//Delta Consulting Group - ECPv6.15.12//NONSGML v1.0//EN
CALSCALE:GREGORIAN
METHOD:PUBLISH
X-WR-CALNAME:Delta Consulting Group
X-ORIGINAL-URL:https://delta-cgi.com
X-WR-CALDESC:Events for Delta Consulting Group
REFRESH-INTERVAL;VALUE=DURATION:PT1H
X-Robots-Tag:noindex
X-PUBLISHED-TTL:PT1H
BEGIN:VTIMEZONE
TZID:America/New_York
BEGIN:DAYLIGHT
TZOFFSETFROM:-0500
TZOFFSETTO:-0400
TZNAME:EDT
DTSTART:20250309T070000
END:DAYLIGHT
BEGIN:STANDARD
TZOFFSETFROM:-0400
TZOFFSETTO:-0500
TZNAME:EST
DTSTART:20251102T060000
END:STANDARD
BEGIN:DAYLIGHT
TZOFFSETFROM:-0500
TZOFFSETTO:-0400
TZNAME:EDT
DTSTART:20260308T070000
END:DAYLIGHT
BEGIN:STANDARD
TZOFFSETFROM:-0400
TZOFFSETTO:-0500
TZNAME:EST
DTSTART:20261101T060000
END:STANDARD
BEGIN:DAYLIGHT
TZOFFSETFROM:-0500
TZOFFSETTO:-0400
TZNAME:EDT
DTSTART:20270314T070000
END:DAYLIGHT
BEGIN:STANDARD
TZOFFSETFROM:-0400
TZOFFSETTO:-0500
TZNAME:EST
DTSTART:20271107T060000
END:STANDARD
END:VTIMEZONE
BEGIN:VEVENT
DTSTART;VALUE=DATE:20260304
DTEND;VALUE=DATE:20260308
DTSTAMP:20260420T173543
CREATED:20251222T163847Z
LAST-MODIFIED:20260302T220323Z
UID:10000151-1772582400-1772927999@delta-cgi.com
SUMMARY:2026 ABA Insurance Coverage Litigation Committee CLE Seminar
DESCRIPTION:The 2026 ABA Insurance Coverage Litigation Committee CLE Seminar is an essential continuing legal education event for attorneys\, claims professionals and industry advisors specializing in insurance coverage litigation. Hosted by the American Bar Association’s Insurance Coverage Litigation Committee\, the seminar brings together practitioners from across the U.S. to explore cutting-edge topics\, evolving case law and practical strategies impacting the coverage landscape. \nSpanning multiple days\, the program features a robust lineup of 28 dynamic sessions\, including 8 plenary presentations and 20 breakout workshops\, as well as networking receptions and collaborative roundtable discussions. Attendees engage in deep dives on substantive issues such as emerging coverage disputes\, appellate trends\, litigation tactics\, bad faith developments\, and policy drafting challenges — all designed to support excellence in insurance coverage practice and client advocacy. \nDelta Consulting Group will be represented at the seminar by Managing Directors Drew Olson and Steve Dimakos\, along with Director Avi Sharma and Associate Director Nicole Abrahamian. Together\, they will connect with peers\, contribute to professional dialogue\, and bring valuable insights back to clients navigating complex coverage matters.
URL:https://delta-cgi.com/events/2026-aba-insurance-coverage-litigation-committee-cle-seminar/
LOCATION:Tucson\, AZ
ATTACH;FMTTYPE=image/jpeg:https://delta-cgi.com/wp-content/uploads/2025/12/Drew-Steve-Avi-Nicole-ABA-CLE-Seminar-2026.jpg
END:VEVENT
END:VCALENDAR