BEGIN:VCALENDAR
VERSION:2.0
PRODID:-//Delta Consulting Group - ECPv6.15.12//NONSGML v1.0//EN
CALSCALE:GREGORIAN
METHOD:PUBLISH
X-ORIGINAL-URL:https://delta-cgi.com
X-WR-CALDESC:Events for Delta Consulting Group
REFRESH-INTERVAL;VALUE=DURATION:PT1H
X-Robots-Tag:noindex
X-PUBLISHED-TTL:PT1H
BEGIN:VTIMEZONE
TZID:UTC
BEGIN:STANDARD
TZOFFSETFROM:+0000
TZOFFSETTO:+0000
TZNAME:UTC
DTSTART:20230101T000000
END:STANDARD
END:VTIMEZONE
BEGIN:VEVENT
DTSTART;VALUE=DATE:20240605
DTEND;VALUE=DATE:20240606
DTSTAMP:20260425T070338
CREATED:20240604T181540Z
LAST-MODIFIED:20240604T184701Z
UID:10000039-1717545600-1717631999@delta-cgi.com
SUMMARY:UK Adjudicators 2024 International Construction Adjudication & Arbitration Conference
DESCRIPTION:The UK Adjudicators 2024 Adjudication & Arbitration Conference brings together world leading adjudicators\, arbitrators\, dispute board members\, solicitors\, barristers\, lawyers\, academics\, construction professionals\, clients\, users\, expert witnesses and students to discuss topical issues in adjudication and arbitration. \nWe are excited to have Martin Hicks\, Luis Moreira\, Anthony Buirski\, Rory House\, and Smita Yamgar represent Delta at the conference.
URL:https://delta-cgi.com/events/uk-adjudicators-2024-international-construction-adjudication-arbitration-conference/
LOCATION:1 Wimpole Street\, 1 Wimpole Street\, London\, W1G 0AE\, United Kingdom
CATEGORIES:Conference
ATTACH;FMTTYPE=image/jpeg:https://delta-cgi.com/wp-content/uploads/2024/06/LIDW2024UKAIntlAACConference-3.jpg
END:VEVENT
END:VCALENDAR